BEGIN:VCALENDAR
VERSION:2.0
PRODID:-//USDA Employee Services &amp; Recreation Association - ECPv6.15.20//NONSGML v1.0//EN
CALSCALE:GREGORIAN
METHOD:PUBLISH
X-WR-CALNAME:USDA Employee Services &amp; Recreation Association
X-ORIGINAL-URL:https://www.usdaesra.org
X-WR-CALDESC:Events for USDA Employee Services &amp; Recreation Association
REFRESH-INTERVAL;VALUE=DURATION:PT1H
X-Robots-Tag:noindex
X-PUBLISHED-TTL:PT1H
BEGIN:VTIMEZONE
TZID:America/New_York
BEGIN:DAYLIGHT
TZOFFSETFROM:-0500
TZOFFSETTO:-0400
TZNAME:EDT
DTSTART:20160313T070000
END:DAYLIGHT
BEGIN:STANDARD
TZOFFSETFROM:-0400
TZOFFSETTO:-0500
TZNAME:EST
DTSTART:20161106T060000
END:STANDARD
BEGIN:DAYLIGHT
TZOFFSETFROM:-0500
TZOFFSETTO:-0400
TZNAME:EDT
DTSTART:20170312T070000
END:DAYLIGHT
BEGIN:STANDARD
TZOFFSETFROM:-0400
TZOFFSETTO:-0500
TZNAME:EST
DTSTART:20171105T060000
END:STANDARD
BEGIN:DAYLIGHT
TZOFFSETFROM:-0500
TZOFFSETTO:-0400
TZNAME:EDT
DTSTART:20180311T070000
END:DAYLIGHT
BEGIN:STANDARD
TZOFFSETFROM:-0400
TZOFFSETTO:-0500
TZNAME:EST
DTSTART:20181104T060000
END:STANDARD
BEGIN:DAYLIGHT
TZOFFSETFROM:-0500
TZOFFSETTO:-0400
TZNAME:EDT
DTSTART:20190310T070000
END:DAYLIGHT
BEGIN:STANDARD
TZOFFSETFROM:-0400
TZOFFSETTO:-0500
TZNAME:EST
DTSTART:20191103T060000
END:STANDARD
END:VTIMEZONE
BEGIN:VEVENT
DTSTART;TZID=America/New_York:20181219T090000
DTEND;TZID=America/New_York:20181219T140000
DTSTAMP:20260421T165907
CREATED:20181031T161129Z
LAST-MODIFIED:20181211T141907Z
UID:4158-1545210000-1545228000@www.usdaesra.org
SUMMARY:GWCC Holiday Shopping Bazaar
DESCRIPTION:Join ESRA and our Merchandise Vendors at the GWCC Holiday Bazaar on December 5th! The event will be in the GWCC Cafe from 9:00am to 2:00pm. \nSome shop unique gifts including clothing\, jewelry\, accessories\, sports merchandise\, oils and perfumes\, USDA Merchandise and MORE! The ESRA Gift Shop will also have a table with See’s Candy\, White House Christmas Ornaments\, USDA Holiday Ornaments and Movie Tickets for sale! \nFree Holiday Cookies to all shoppers\, while supplies last.
URL:https://www.usdaesra.org/event/gwcc-holiday-shopping-bazaar/
LOCATION:Geroge Washington Carver Center\, 5601 Sunnyside Avenue\, College Park\, MD\, 20740\, United States
CATEGORIES:Bazaar
ORGANIZER;CN="Teresa Knoll":MAILTO:Teresa.Knoll@dm.usda.gov
END:VEVENT
BEGIN:VEVENT
DTSTART;TZID=America/New_York:20181212T090000
DTEND;TZID=America/New_York:20181212T140000
DTSTAMP:20260421T165907
CREATED:20181204T151756Z
LAST-MODIFIED:20181204T151756Z
UID:4427-1544605200-1544623200@www.usdaesra.org
SUMMARY:Holiday Bazaar
DESCRIPTION:Come shop at the annual Merchandise Vendor Holiday Bazaar! Vendors will be set up in the Ag-Promenade hallway (sub-basement\, wing 3) on December 12th from 9:00am to 2:00pm. We will have a FREE HOT CHOCOLATE BAR\, while supplies last!
URL:https://www.usdaesra.org/event/holiday-bazaar-2/
LOCATION:ESRA Gift Shop\, 1400 Independence Ave\, SW Room SM-6\, Washington\, DC\, 20250\, United States
CATEGORIES:Bazaar
ORGANIZER;CN="Teresa Knoll":MAILTO:Teresa.Knoll@dm.usda.gov
END:VEVENT
BEGIN:VEVENT
DTSTART;TZID=America/New_York:20181210T090000
DTEND;TZID=America/New_York:20181210T140000
DTSTAMP:20260421T165907
CREATED:20181206T155620Z
LAST-MODIFIED:20181206T155620Z
UID:4445-1544432400-1544450400@www.usdaesra.org
SUMMARY:Employee Holiday Bazaar
DESCRIPTION:Come support your fellow USDA coworkers at the Employee Holiday Bazaar! They will be selling handmade jewelry\, crochet hats\, scarves and handbags\, and MORE.  They will be set up in the Vendor’s Corner Room (Ag-Promenade\, across from the Credit Union) from 9:00am to 2:00pm
URL:https://www.usdaesra.org/event/employee-holiday-bazaar/
LOCATION:ESRA Gift Shop\, 1400 Independence Ave\, SW Room SM-6\, Washington\, DC\, 20250\, United States
CATEGORIES:Bazaar
ORGANIZER;CN="Teresa Knoll":MAILTO:Teresa.Knoll@dm.usda.gov
END:VEVENT
BEGIN:VEVENT
DTSTART;TZID=America/New_York:20181119T090000
DTEND;TZID=America/New_York:20181119T153000
DTSTAMP:20260421T165907
CREATED:20181108T140220Z
LAST-MODIFIED:20181108T140220Z
UID:4176-1542618000-1542641400@www.usdaesra.org
SUMMARY:Gift Shop Pre-Thanksgiving Sale
DESCRIPTION:The ESRA Gift Shop is having a HUGE sale\, in store only on November 19th – 21st! Everything in store is 25% off\, while supplies last.  Sale excludes Tickets and Holiday Ornaments.  Don’t miss out on this wonderful event. \nSales for the online store will be coming soon! Stay tuned for specials on Black Friday\, Small Business Saturday and Cyber Monday! \n 
URL:https://www.usdaesra.org/event/gift-shop-pre-thanksgiving-sale/
LOCATION:ESRA Gift Shop\, 1400 Independence Ave\, SW Room SM-6\, Washington\, DC\, 20250\, United States
CATEGORIES:Bazaar
ORGANIZER;CN="Teresa Knoll":MAILTO:Teresa.Knoll@dm.usda.gov
END:VEVENT
BEGIN:VEVENT
DTSTART;TZID=America/New_York:20181024T090000
DTEND;TZID=America/New_York:20181024T140000
DTSTAMP:20260421T165907
CREATED:20181022T160741Z
LAST-MODIFIED:20181022T160741Z
UID:4134-1540371600-1540389600@www.usdaesra.org
SUMMARY:Pop-Up Sale at GWCC
DESCRIPTION:The ESRA Gift Shop will be at the USDA George Washington Carver Center in Beltsville\, MD on Wednesday\, October 24th for a Pop-Up Sale! Come shop for USDA Merchandise\, movie tickets and MORE! We will be set up outside the GWCC Cafe and elevators from 9:00am to 2:00pm. Credit card and cash accepted!
URL:https://www.usdaesra.org/event/pop-up-sale-at-gwcc/
LOCATION:Geroge Washington Carver Center\, 5601 Sunnyside Avenue\, College Park\, MD\, 20740\, United States
CATEGORIES:Bazaar
ORGANIZER;CN="Teresa Knoll":MAILTO:Teresa.Knoll@dm.usda.gov
END:VEVENT
BEGIN:VEVENT
DTSTART;TZID=America/New_York:20171206T090000
DTEND;TZID=America/New_York:20171206T140000
DTSTAMP:20260421T165907
CREATED:20171031T133858Z
LAST-MODIFIED:20171031T133858Z
UID:3410-1512550800-1512568800@www.usdaesra.org
SUMMARY:Holiday Bazaar
DESCRIPTION:Join us for our annual Holiday Shopping Bazaar! We will be in the Cafeteria on December 6th from 9:00am to 2:00pm. Stop by for unique gifts for everyone on your list.  Vendors will have items such as jewelry\, clothes\, sports gear\, oils and perfumes\, bags and MORE! \nReceive a FREE Holiday Treat and Raffle Ticket with every purchase! Raffle prizes include movie gift cards and MORE.
URL:https://www.usdaesra.org/event/holiday-bazaar/
LOCATION:USDA S. Building Cafeteria Conference Rooms\, 1400 Independence Ave\, SW\, Washington\, DC\, 20250\, United States
CATEGORIES:Bazaar
ORGANIZER;CN="Teresa Knoll":MAILTO:Teresa.Knoll@dm.usda.gov
END:VEVENT
BEGIN:VEVENT
DTSTART;TZID=America/New_York:20171204T090000
DTEND;TZID=America/New_York:20171204T140000
DTSTAMP:20260421T165907
CREATED:20171130T204858Z
LAST-MODIFIED:20171130T204858Z
UID:3521-1512378000-1512396000@www.usdaesra.org
SUMMARY:USDA Employee's Holiday Shopping Bazaar
DESCRIPTION:Employee Holiday Bazaar  \nJoin us on Monday\, December 4th in the Vendor’s Corner room in the Ag-Promenade for an employee only holiday bazaar! Come support your fellow coworkers and purchase some unique gifts.  They will be there from 9:00am to 2:00pm.
URL:https://www.usdaesra.org/event/usda-employees-holiday-shopping-bazaar/
LOCATION:Ag-Promenade\, 1400 Independence Ave\, SW\, Washington\, DC\, 20250\, United States
CATEGORIES:Bazaar
ORGANIZER;CN="Teresa Knoll":MAILTO:Teresa.Knoll@dm.usda.gov
END:VEVENT
END:VCALENDAR